BEGIN:VCALENDAR
VERSION:2.0
PRODID:-//ChamberMaster//Event Calendar 2.0//EN
METHOD:PUBLISH
X-PUBLISHED-TTL:P3D
REFRESH-INTERVAL:P3D
CALSCALE:GREGORIAN
BEGIN:VEVENT
DTSTART:20140626T130000Z
DTEND:20140626T170000Z
X-MICROSOFT-CDO-ALLDAYEVENT:FALSE
SUMMARY:Senior & Caregivers Expo\, Hosted by Senior Coordinating Council
DESCRIPTION:In many rural areas around the country\, it is difficult for many seniors to find information or learn about the services available to them. This is also true here in Newaygo County\, where many seniors have no phone service\, let alone internet access and necessary Smartphone or computers to access the latest and best information of interest and concern to them.\n\n \n\nThe Senior and Caregiver Expo provides you a one-stop place to come and get the information seniors want and need.  It is designed for both seniors and their caregivers\, and provides a wealth of information from service agencies and businesses alike.  In addition to classes of interest to seniors\, there are also a wide array of products and services for your review in a no-pressure environment.\n\n \n\nThis is the 2nd year that the Chamber has been active in the planning of this important community event\, encouraging businesses that are deeply connected to the needs of seniors to attend. The River Country Chamber of Commerce of Newaygo County would like to encourage all Newaygo County seniors and their caregivers to attend this unique and informative event!\n\n\n\nDetails on event will be posted soon - check back for classes and speakers. \n\n\n\nIf you have questions regarding this event\, please contact Charlie Johnson\, LifeLink Coordinator\, TrueNorth Community Services at (231) 924-0641\, ext. 136 OR you would like information on Sponsorship or being an exhibitor CLICK HERE
X-ALT-DESC;FMTTYPE=text/html:<span style="color:#1f497d\;">In many rural areas around the country\, it is difficult for many seniors to find information or learn about the services available to them. This is also true here in Newaygo County\, where many seniors have no phone service\, let alone internet access and necessary Smartphone or computers to access the latest and best information of interest and concern to them.</span><br />\n&nbsp\;<br />\n<span style="color:#1f497d\;">The Senior and Caregiver Expo provides you a one-stop place to come and get the information seniors want and need.&nbsp\; It is designed for both seniors and their caregivers\, and provides a wealth of information from service agencies and businesses alike.&nbsp\; In addition to classes of interest to seniors\, there are also a wide array of products and services for your review in a no-pressure environment.</span><br />\n&nbsp\;<br />\n<span style="color:#1f497d\;">This is the 2nd year that the Chamber has been active in the planning of this important community event\, encouraging businesses that are deeply connected to the needs of seniors to attend. The River Country Chamber of Commerce of Newaygo County would like to encourage all Newaygo County seniors and their caregivers to attend this unique and informative event!<br />\n<br />\nDetails on event will be posted soon - check back for classes and speakers.&nbsp\;</span><br />\n<br />\n<em><strong><span style="color:#1f497d\;">If you have questions regarding this event\, please contact Charlie Johnson\, LifeLink Coordinator\, TrueNorth Community Services at (231) 924-0641\, ext. 136 OR you would like information on Sponsorship or being an exhibitor </span><a href="http://cloud.chambermaster.com/userfiles/UserFiles/chambers/1709/File/Senior_Expo/seniorexpo.PDF"><span style="font-size:16px\;"><span style="color:#B22222\;">CLICK HERE</span></span></a></strong></em>
LOCATION:NEW LOCATION!!!! Newaygo Middle School 850 E 76TH sT Newaygo\, MI 49337
UID:e.1709.867
SEQUENCE:3
DTSTAMP:20260420T114906Z
URL:https://www.rivercountrychamber.com/events/details/senior-caregivers-expo-hosted-by-senior-coordinating-council-06-26-2014-867
END:VEVENT

END:VCALENDAR
