BEGIN:VCALENDAR
VERSION:2.0
PRODID:-//ChamberMaster//Event Calendar 2.0//EN
METHOD:PUBLISH
X-PUBLISHED-TTL:P3D
REFRESH-INTERVAL:P3D
CALSCALE:GREGORIAN
BEGIN:VEVENT
DTSTART:20131113T180000Z
DTEND:20131115T210000Z
X-MICROSOFT-CDO-ALLDAYEVENT:FALSE
SUMMARY:Senior Harvest Baskets
DESCRIPTION:This is an opportunity for the community to donate food and personal care items to area senior citizens in need. Drop off donations by 11/8. Packing takes place 11/13\, 1-3 PM. Delivery takes place 11/15. Applications for the Senior Harvest Basket program are due October 29.
X-ALT-DESC;FMTTYPE=text/html:This is an opportunity for the community to donate food and personal care items to area senior citizens in need. Drop off donations by 11/8. Packing takes place 11/13\, 1-3 PM. Delivery takes place 11/15. Applications for the Senior Harvest Basket program are due October 29. 
LOCATION:TrueNorth\, 6308 S. Warner Ave. Fremont MI 49412
UID:e.1709.432
SEQUENCE:3
DTSTAMP:20260420T205626Z
URL:https://www.rivercountrychamber.com/events/details/senior-harvest-baskets-11-13-2013-432
END:VEVENT

END:VCALENDAR
