BEGIN:VCALENDAR
VERSION:2.0
PRODID:-//ChamberMaster//Event Calendar 2.0//EN
METHOD:PUBLISH
X-PUBLISHED-TTL:P3D
REFRESH-INTERVAL:P3D
CALSCALE:GREGORIAN
BEGIN:VEVENT
DTSTART:20131112T160000Z
DTEND:20131112T183000Z
X-MICROSOFT-CDO-ALLDAYEVENT:FALSE
SUMMARY:Senior Thanksgiving Luncheon
DESCRIPTION:Volunteers and staff from community agencies in the support of local senior citizens will be providing a free traditional Thanksgiving meal and program information at this festive holiday event. This luncheon will encourage seniors\, offer opportunities for socialization\, and provide information regarding support services.
X-ALT-DESC;FMTTYPE=text/html:Volunteers and staff from community agencies in the support of local senior citizens will be providing a free traditional Thanksgiving meal and program information at this festive holiday event. This luncheon will encourage seniors\, offer opportunities for socialization\, and provide information regarding support services.
LOCATION:TrueNorth\, 6308 S. Warner Ave. 6308 S. Warner Ave. Fremont MI 49412
UID:e.1709.431
SEQUENCE:3
DTSTAMP:20260420T205836Z
URL:https://www.rivercountrychamber.com/events/details/senior-thanksgiving-luncheon-11-12-2013-431
END:VEVENT

END:VCALENDAR
