BEGIN:VCALENDAR
VERSION:2.0
PRODID:-//ChamberMaster//Event Calendar 2.0//EN
METHOD:PUBLISH
X-PUBLISHED-TTL:P3D
REFRESH-INTERVAL:P3D
CALSCALE:GREGORIAN
BEGIN:VEVENT
DTSTART;VALUE=DATE:20210923
DTEND;VALUE=DATE:20210924
TRANSP:TRANSPARENT
X-MICROSOFT-CDO-ALLDAYEVENT:TRUE
SUMMARY:September Children's Take and Make @ Newaygo Library
DESCRIPTION:CHILDREN'S TAKE & MAKE: Sep 20th - Sat 25th\n\n\n\nALL WEEK LONG! \n\n\n\nTake & Make Apple-Stained Glass decoration using colored tissue paper will be available for children ages 12 and under to take home and have fun creating. \n\n\n\nQuantities are limited!\n\nParental Supervision Required\n\nCraft Age 5+
X-ALT-DESC;FMTTYPE=text/html:<p><strong>CHILDREN&rsquo\;S TAKE &amp\; MAKE: Sep 20th - Sat 25th</strong><br />\n<br />\n<strong>ALL WEEK LONG!&nbsp\;</strong><br />\n<br />\n<span style="color:rgb(60\, 64\, 67)\; font-family:roboto\,arial\,sans-serif\; font-size:14px">Take &amp\; Make Apple-Stained Glass decoration using colored tissue paper will be available for children ages 12 and under to take home and have fun creating.&nbsp\;</span><br />\n<br />\n<strong>Quantities are limited!</strong></p>\n\n<p>Parental Supervision Required</p>\n\n<p>Craft Age 5+</p>\n
LOCATION:
UID:e.1709.37877
SEQUENCE:3
DTSTAMP:20260425T172641Z
URL:https://www.rivercountrychamber.com/events/details/september-children-s-take-and-make-newaygo-library-09-23-2021-37877
END:VEVENT

END:VCALENDAR
