BEGIN:VCALENDAR
VERSION:2.0
PRODID:-//ChamberMaster//Event Calendar 2.0//EN
METHOD:PUBLISH
X-PUBLISHED-TTL:P3D
REFRESH-INTERVAL:P3D
CALSCALE:GREGORIAN
BEGIN:VEVENT
DTSTART;VALUE=DATE:20140524
DTEND;VALUE=DATE:20140526
TRANSP:TRANSPARENT
X-MICROSOFT-CDO-ALLDAYEVENT:TRUE
SUMMARY:Sidewalk Sale at Gala Gourmet Kitchen Shop
DESCRIPTION:Lots of great deals on specialty food items\, housewares\, Christmas items\, cookbooks and much\, much more!
X-ALT-DESC;FMTTYPE=text/html:<span style="font-size:20px\;">Lots of great deals on specialty food items\, housewares\, Christmas items\, cookbooks and much\, much more!</span>
LOCATION:Gala Gourmet\, 18 W. State Rd.\, Downtown Newaygo
UID:e.1709.902
SEQUENCE:3
DTSTAMP:20260420T130603Z
URL:https://www.rivercountrychamber.com/events/details/sidewalk-sale-at-gala-gourmet-kitchen-shop-05-24-2014-902
END:VEVENT

END:VCALENDAR
