BEGIN:VCALENDAR
VERSION:2.0
PRODID:-//ChamberMaster//Event Calendar 2.0//EN
METHOD:PUBLISH
X-PUBLISHED-TTL:P3D
REFRESH-INTERVAL:P3D
CALSCALE:GREGORIAN
BEGIN:VEVENT
DTSTART:20140208T170000Z
DTEND:20140208T180000Z
X-MICROSOFT-CDO-ALLDAYEVENT:FALSE
SUMMARY:Soup & Pie Contest brought to you by the River Country Chamber of Commerce of Newaygo County
DESCRIPTION:Dam Good WinterFest is excited to announce that the former White Cloud Chamber of Commerce's Winter Carnival is a part of the Dam Good WinterFest with the addition of the the Annual Soup & Pie Contest to be held at Graves Lodge (Newaygo County Sports Park).  \n\n\n\nBring your friends\, family\, sleds and make a day of it.... Sledding Party is from 1pm - 4pm\; \n\n\n\nRegistration is FREE!  Sign up! Grab your crock pot! Bring a batch or two of your favorite Soup or Pie and enter to win!!!  \n\n\n\nThe winner of each category will receive a $50.00 prize and will have their name posted on the Chamber Website as well as our Social Media Site.  \n\n\n\nAll entries must be dropped off at no later than Noon with judging to start at 12:15 pm.\n\n\n\nFor questions please contact  the Chamber Office at 231-652-3068 or Call Phyllis Green at 231-689-6826
X-ALT-DESC;FMTTYPE=text/html:<br />\nDam Good WinterFest is excited to announce that the former White Cloud Chamber of Commerce&#39\;s Winter Carnival is a part of the Dam Good WinterFest&nbsp\;with the addition of the the Annual Soup &amp\; Pie Contest to be held at Graves Lodge (Newaygo County Sports Park). &nbsp\;<br />\n<br />\nBring your friends\, family\, sleds and make a day of it.... <a href="http://business.newaygonaturally.com/events/details/dam-good-winterfest-sledding-party-571"><strong><span style="font-size:14px\;">Sledding Party </span></strong></a>is from 1pm - 4pm\;&nbsp\;<br />\n<br />\n<strong>Registration is FREE! </strong>&nbsp\;<strong>Sign up!</strong> <strong>Grab your crock pot!</strong> <strong>Bring a batch or two of your favorite Soup or Pie and enter to win!!! &nbsp\;</strong><br />\n<br />\nThe winner of each category will receive a $50.00 prize and will have their name posted on the Chamber Website as well as our Social Media Site. &nbsp\;<br />\n<br />\nAll entries must be dropped off at no later than Noon with judging to start at 12:15 pm.<br />\n<br />\nFor questions please contact &#8203\;the Chamber Office at 231-652-3068 or Call Phyllis Green at 231-689-6826<br />\n<br />\n&nbsp\;
LOCATION:Graves Lodge Newaygo County Sports Park M-37
UID:e.1709.563
SEQUENCE:3
DTSTAMP:20260420T165618Z
URL:https://www.rivercountrychamber.com/events/details/soup-pie-contest-brought-to-you-by-the-river-country-chamber-of-commerce-of-newaygo-county-02-08-2014-563
END:VEVENT

END:VCALENDAR
