BEGIN:VCALENDAR
VERSION:2.0
PRODID:-//ChamberMaster//Event Calendar 2.0//EN
METHOD:PUBLISH
X-PUBLISHED-TTL:P3D
REFRESH-INTERVAL:P3D
CALSCALE:GREGORIAN
BEGIN:VEVENT
DTSTART:20140315T210000Z
DTEND:20140315T220000Z
X-MICROSOFT-CDO-ALLDAYEVENT:FALSE
SUMMARY:Spaghetti Dinner Jazz concert
DESCRIPTION:Spaghetti Dinner & Jazz Concert brought to you by the Newaygo Congregational United Church of Christ.\n\n\n\n                         \n\nDinner will be served from 5:00 - 6:00 pm with the NHS Jazz Band Concert to follow.  \n\n \n\nThis event is a Free Will Donation  (all proceeds will be donated to Newaygo Public School Bands)
X-ALT-DESC;FMTTYPE=text/html:<br />\n<strong><span style="color:rgb(76\,39\,117)\;"><span style="font-family:kristen itc\;"><span style="font-size:16pt\;">Spaghetti Dinner &amp\; Jazz Concert brought to you by the Newaygo Congregational United Church of Christ.</span></span></span></strong><br />\n<br />\n&nbsp\;&nbsp\;&nbsp\;&nbsp\;&nbsp\;&nbsp\;&nbsp\;&nbsp\;&nbsp\;&nbsp\;&nbsp\;&nbsp\;&nbsp\;&nbsp\;&nbsp\;&nbsp\;&nbsp\;&nbsp\;&nbsp\;&nbsp\;&nbsp\;&nbsp\;&nbsp\;&nbsp\;&nbsp\;<br />\n<strong><span style="color:rgb(76\,39\,117)\;"><span style="font-family:kristen itc\;"><span style="font-size:16pt\;">Dinner will be served from 5:00 - 6:00 pm with the NHS Jazz Band Concert to follow.&nbsp\;</span></span></span></strong><strong><span style="color:rgb(76\,39\,117)\;"><span style="font-family:kristen itc\;"><span style="font-size:16pt\;">&nbsp\;</span></span></span></strong><br />\n&nbsp\;<br />\n<strong><span style="color:rgb(76\,39\,117)\;"><span style="font-family:kristen itc\;"><span style="font-size:16pt\;">This event is a Free Will Donation&nbsp\;&nbsp\;</span></span></span></strong><strong><span style="color:rgb(76\,39\,117)\;"><span style="font-family:kristen itc\;"><span style="font-size:12pt\;">(all proceeds will be donated to Newaygo Public School Bands)</span></span></span></strong>
LOCATION:Newaygo Congregational United Church of Christ 432 Quarterline\, Newaygo (next to Brooks Township Hall)
UID:e.1709.822
SEQUENCE:3
DTSTAMP:20260420T154350Z
URL:https://www.rivercountrychamber.com/events/details/spaghetti-dinner-jazz-concert-03-15-2014-822
END:VEVENT

END:VCALENDAR
