BEGIN:VCALENDAR
VERSION:2.0
PRODID:-//ChamberMaster//Event Calendar 2.0//EN
METHOD:PUBLISH
X-PUBLISHED-TTL:P3D
REFRESH-INTERVAL:P3D
CALSCALE:GREGORIAN
BEGIN:VEVENT
DTSTART:20140208T210000Z
DTEND:20140209T000000Z
X-MICROSOFT-CDO-ALLDAYEVENT:FALSE
SUMMARY:Spaghetti Dinner & Silent Auction
DESCRIPTION:Stage Door Players is hosting a Spaghetti Dinner & Silent Auction Fundraiser. Dinner includes salad bar\, spaghetti\, garlic toast\, drink & dessert. Many items for the silent auction. Also door prizes.
X-ALT-DESC;FMTTYPE=text/html:Stage Door Players is hosting a Spaghetti Dinner &amp\; Silent Auction Fundraiser. Dinner includes salad bar\, spaghetti\, garlic toast\, drink &amp\; dessert. Many items for the silent auction. Also door prizes.
LOCATION:Commission on Aging 93 S. Gibbs\, White Cloud\, MI
UID:e.1709.576
SEQUENCE:3
DTSTAMP:20260420T164938Z
URL:https://www.rivercountrychamber.com/events/details/spaghetti-dinner-silent-auction-02-08-2014-576
END:VEVENT

END:VCALENDAR
