BEGIN:VCALENDAR
VERSION:2.0
PRODID:-//ChamberMaster//Event Calendar 2.0//EN
METHOD:PUBLISH
X-PUBLISHED-TTL:P3D
REFRESH-INTERVAL:P3D
CALSCALE:GREGORIAN
BEGIN:VEVENT
DTSTART;VALUE=DATE:20131202
DTEND;VALUE=DATE:20140101
TRANSP:TRANSPARENT
X-MICROSOFT-CDO-ALLDAYEVENT:TRUE
SUMMARY:Spirit of Giving Decorate & Donate Contest Dec 2 - 31st
DESCRIPTION:Spirit of Giving Decorate & Donate Contest\n\n \n\nThere is a new twist to the 2013 Decorate & Donate Contest\; voting can be done on line and at participating businesses\n\n\n\nVote as often as you would like   the business with the most money raised wins!   50% of all donations will go to Truenorth Senior Food Program.  \n\n\n\nThe Santa News Network is reporting that several of the participating businesses are offering incentives for voting... Be sure to stop out and investigate!\n\n \nOnline voting available December 10 - 31st\n\n\n\n\nParticipating Member Businesses are listed to the right and will take you to the participating businesses display page.\n\n\n\n \n\n \nContest runs from Dec 2   31st \n\nresults will be announced Jan. 6th
X-ALT-DESC;FMTTYPE=text/html:<br />\n<span style="font-family: arial\;"><font size="6"><b>Spirit of Giving Decorate &amp\; Donate Contest</b></font><br />\n&nbsp\;<br />\n<strong><span style="font-size: 18pt\;">There is a new twist to the 2013 Decorate &amp\; Donate Contest\; voting can be done on line and at participating businesses</span></strong><br />\n<br />\n<span style="font-size: 16pt\;">Vote as often as you would like &ndash\; the business with the most money raised wins!&nbsp\; &nbsp\;50% of all donations will go to Truenorth Senior Food Program. &nbsp\;<br />\n<br />\nThe Santa News Network is reporting that several of the participating businesses are offering incentives for voting... Be sure to stop out and investigate!</span></span><br />\n&nbsp\;\n<div style="text-align: center\;"><span style="font-family: arial\;"><strong><span style="font-size: 16pt\;">Online voting available December 10 - 31st</span></strong></span></div>\n<br />\n<br />\n<span style="font-family: arial\;"><span style="color: rgb(178\, 34\, 34)\;"><strong><span style="font-size: 16pt\;">Participating Member Businesses are listed to the right and will take you to the participating businesses display page.</span></strong></span><br />\n<br />\n&nbsp\;</span><br />\n&nbsp\;\n<div style="text-align: center\;"><span style="font-family: arial\;"><strong><span style="font-size: 16pt\;">Contest runs from Dec 2 &ndash\; 31<sup>st</sup>&nbsp\;<br />\nresults will be announced Jan. 6th</span></strong></span></div>\n<br />\n<br />\n<br />\n<br />\n<br />\n<br />\n<br />\n&nbsp\;
LOCATION:Click on a business name for more information on each participating business and to vote on line
UID:e.1709.472
SEQUENCE:3
DTSTAMP:20260420T194353Z
URL:https://www.rivercountrychamber.com/events/details/spirit-of-giving-decorate-donate-contest-dec-2-31st-12-02-2013-472
END:VEVENT

END:VCALENDAR
