BEGIN:VCALENDAR
VERSION:2.0
PRODID:-//ChamberMaster//Event Calendar 2.0//EN
METHOD:PUBLISH
X-PUBLISHED-TTL:P3D
REFRESH-INTERVAL:P3D
CALSCALE:GREGORIAN
BEGIN:VEVENT
DTSTART:20140228T010000Z
DTEND:20140228T030000Z
X-MICROSOFT-CDO-ALLDAYEVENT:FALSE
SUMMARY:SPORTSMAN'S BAR COMEDY SHOW
DESCRIPTION:Got CABIN FEVER??? Come on out to the Sortsman's Bar for some good food and some great laughs!! This month's show is Thurs the 27th at 8:00 featuring Stuart Huff & Gerrit Elzinga. Stuart has performed in Comedy Clubs from coast to coast including the improve in LA s well as the improv in New York.  Gerrits material consists a rawloat everyday life adventures an innovative spin on what exactly goes on in the world around us. He has performed across Michigan including Dr Gins and the Comedy Connection in Lansing.  Call to reserve seats for only $8.  GET OUT OF THE HOUSE!! Come join us for some laughs!\n\nHope to see you there.
X-ALT-DESC;FMTTYPE=text/html:<br />\nGot CABIN FEVER??? Come on out to the Sortsman&#39\;s Bar for some good food and some great laughs!! This month&#39\;s show is Thurs the 27th at 8:00 featuring Stuart Huff &amp\; Gerrit Elzinga. Stuart has performed in Comedy Clubs from coast to coast including the improve in LA s well as the&nbsp\;improv in New York. &nbsp\;Gerrits material consists a rawloat everyday life adventures an innovative spin on what exactly goes on in the world around us. He has performed across Michigan including Dr Gins and&nbsp\;the Comedy Connection in Lansing.&nbsp\; Call to reserve seats for only $8.&nbsp\; GET OUT OF THE HOUSE!! Come join us for&nbsp\;some laughs!<br />\nHope to see you there.
LOCATION:The Sportsman's Bar downtown Newaygo 30 State St
UID:e.1709.793
SEQUENCE:3
DTSTAMP:20260420T165730Z
URL:https://www.rivercountrychamber.com/events/details/sportsman-s-bar-comedy-show-02-27-2014-793
END:VEVENT

END:VCALENDAR
