BEGIN:VCALENDAR
VERSION:2.0
PRODID:-//ChamberMaster//Event Calendar 2.0//EN
METHOD:PUBLISH
X-PUBLISHED-TTL:P3D
REFRESH-INTERVAL:P3D
CALSCALE:GREGORIAN
BEGIN:VEVENT
DTSTART:20140315T220000Z
DTEND:20140316T020000Z
X-MICROSOFT-CDO-ALLDAYEVENT:FALSE
SUMMARY:St. Patrick's Day Jazz Warm-up Escape
DESCRIPTION:Join us for a special St. Patricks Day evening event featuring live jazz\, food and drink specials!  Reserve a table for the entire  evening at only $40 / $10 per person and it wil be waiting for you!  Organissimo is one of the top organ trios in the US\, and just won the 2014 Jammy Award for best new jazz CD
X-ALT-DESC;FMTTYPE=text/html:Join us for a special St. Patricks Day evening event featuring live jazz\, food and drink specials!&nbsp\; Reserve a table for the entire &nbsp\;evening at only $40 / $10 per person and it wil be waiting for you!&nbsp\; Organissimo is one of the top organ&nbsp\;trios in the US\, and just won the 2014 Jammy Award for best new jazz CD
LOCATION:River Stop Caf 52 West State Road Newaygo MI 49337
UID:e.1709.802
SEQUENCE:3
DTSTAMP:20260420T154349Z
URL:https://www.rivercountrychamber.com/events/details/st-patrick-s-day-jazz-warm-up-escape-03-15-2014-802
END:VEVENT

END:VCALENDAR
