BEGIN:VCALENDAR
VERSION:2.0
PRODID:-//ChamberMaster//Event Calendar 2.0//EN
METHOD:PUBLISH
X-PUBLISHED-TTL:P3D
REFRESH-INTERVAL:P3D
CALSCALE:GREGORIAN
BEGIN:VEVENT
DTSTART:20140301T210000Z
DTEND:20140302T020000Z
X-MICROSOFT-CDO-ALLDAYEVENT:FALSE
SUMMARY:Steve Mayes as "Elvis"
DESCRIPTION:Elvis impersonator\, Steve Mayes\, will be performing two shows. Steve began his impersonation at age 4 and has been a professional Elvis impersonator since 1997.
X-ALT-DESC;FMTTYPE=text/html:Elvis impersonator\, Steve Mayes\, will be performing two shows. Steve began his impersonation at age 4 and has been a professional Elvis impersonator since 1997. 
LOCATION:Stage Door Theater 1147 Wilcox White Cloud\, MI
UID:e.1709.579
SEQUENCE:3
DTSTAMP:20260420T154218Z
URL:https://www.rivercountrychamber.com/events/details/steve-mayes-as-elvis-03-01-2014-579
END:VEVENT

END:VCALENDAR
