BEGIN:VCALENDAR
VERSION:2.0
PRODID:-//ChamberMaster//Event Calendar 2.0//EN
METHOD:PUBLISH
X-PUBLISHED-TTL:P3D
REFRESH-INTERVAL:P3D
CALSCALE:GREGORIAN
BEGIN:VEVENT
DTSTART:20220308T230000Z
DTEND:20220309T010000Z
X-MICROSOFT-CDO-ALLDAYEVENT:FALSE
SUMMARY:Stories of Immigrants with Martha Bloomfield
DESCRIPTION:Award-winning author\, Martha Bloomfield\, passionately shares stories of immigrants based on oral history interviews in the greater social/historical context. \n\n\n\nShe shares their stories to inspire others to discover other peoples' stories and their own stories through words\, personal artifacts\, documents and photographs.\n\n\n\nWe will be meeting in the City of Newaygo Chamber Room.\n\n\n\nQuestions?  Call the Library at 231-653-6723.\n\n \nThese adult opportunities are possible through support from the Michigan Humanities and Michigan Council for Arts & Cultural Affairs.\n\n.\n\nWould you like a reminder for this event? Sign up for our events reminder program! "Remind" will send out a text and email about events going on at Newaygo Library. To sign up\, go to: remind.com/join/44kk72.
X-ALT-DESC;FMTTYPE=text/html:<div><span style="color:rgb(60\, 64\, 67)\; font-family:roboto\,arial\,sans-serif\; font-size:14px">Award-winning author\, Martha Bloomfield\, passionately shares stories of immigrants based on oral history interviews in the greater social/historical context. </span><br />\n<br />\n<span style="color:rgb(60\, 64\, 67)\; font-family:roboto\,arial\,sans-serif\; font-size:14px">She shares their stories to inspire others to discover other peoples&rsquo\; stories and their own stories through words\, personal artifacts\, documents and photographs.</span><br />\n<br />\n<span style="color:rgb(60\, 64\, 67)\; font-family:roboto\,arial\,sans-serif\; font-size:14px">We will be meeting in the City of Newaygo Chamber Room.</span><br />\n<br />\n<span style="color:rgb(60\, 64\, 67)\; font-family:roboto\,arial\,sans-serif\; font-size:14px">Questions?&nbsp\; Call the Library at 231-653-6723.</span></div>\n\n<div>&nbsp\;</div>\nThese adult opportunities <span style="color:rgb(60\, 64\, 67)\; font-family:roboto\,helvetica\,arial\,sans-serif\; font-size:14px">are possible through support from the Michigan Humanities and Michigan Council for Arts &amp\; Cultural Affairs.</span>\n\n<div>.</div>\n\n<div>Would you like a reminder for this event? Sign up for our events reminder program! &quot\;Remind&quot\; will send out a text and email about events going on at Newaygo Library. To sign up\, go to:&nbsp\;<a class="oajrlxb2 g5ia77u1 qu0x051f esr5mh6w e9989ue4 r7d6kgcz rq0escxv nhd2j8a9 nc684nl6 p7hjln8o kvgmc6g5 cxmmr5t8 oygrvhab hcukyx3x jb3vyjys rz4wbd8a qt6c0cv9 a8nywdso i1ao9s8h esuyzwwr f1sip0of lzcic4wl gpro0wi8 py34i1dx" href="https://l.facebook.com/l.php?u=http%3A%2F%2Fremind.com%2Fjoin%2F44kk72%3Ffbclid%3DIwAR0MyCAyh2bXXjTHTK-5JbZkfpe7xsjmZpvwarJ_zcJ5Fg7DtIP0_92T7WM&amp\;h=AT3-k5M_knd1HomzlK8Z5iy4rGuy_87gy64UuepXokG7SnjhR5ZljtMgJGucu68b5jBAsKykhmCaUVh7YLCa4YgLxw_e2XLRyklT5YWqL9AHnlk86EXUIWz4Ba4-NSAFjQ&amp\;__tn__=q&amp\;c[0]=AT1rJbuza81yMPYsR-IRns52O944u7yZM70c9mQ_355D0MgAwQpvIWJyTX8pSeN3A-k1vlE6GlahvHb2iCOJeZB7kcpYiKEyoXsYkJjevcNwGgXXRB59HSGRvmTpC3zMOi2YyyKfx741NVBUK6DV9gkmZwikvNUuDBCF2LcSdXz_thg" rel="nofollow noopener" style="color: var(--blue-link)\; cursor: pointer\; text-decoration-line: none\; outline: none\; list-style: none\; border-width: 0px\; border-style: initial\; border-color: initial\; padding: 0px\; margin: 0px\; touch-action: manipulation\; background-color: transparent\; text-align: inherit\; display: inline\; -webkit-tap-highlight-color: transparent\; box-sizing: border-box\; font-family: inherit\;" tabindex="0" target="_blank">remind.com/join/44kk72</a>.</div>\n
LOCATION:City of Newaygo Council Chambers
UID:e.1709.38815
SEQUENCE:3
DTSTAMP:20260424T091404Z
URL:https://www.rivercountrychamber.com/events/details/stories-of-immigrants-with-martha-bloomfield-38815
END:VEVENT

END:VCALENDAR
