BEGIN:VCALENDAR
VERSION:2.0
PRODID:-//ChamberMaster//Event Calendar 2.0//EN
METHOD:PUBLISH
X-PUBLISHED-TTL:P3D
REFRESH-INTERVAL:P3D
CALSCALE:GREGORIAN
BEGIN:VEVENT
DTSTART;VALUE=DATE:20250421
DTEND;VALUE=DATE:20250427
TRANSP:TRANSPARENT
X-MICROSOFT-CDO-ALLDAYEVENT:TRUE
SUMMARY:Succulent Can Creations - Ages 10 - 18
DESCRIPTION:Celebrate Earth Day and express your creative self by upcycling a tin can into a Succulent Can Creation!\n\n\n\nAges 10 - 18 can stop by the library the week of April 21 -26 (or until supplies last) to decorate a tin and then plant a succulent to take home.\n\n\n\nThis drop-in craft is sponsored by the Michigan Arts and Culture Council.
X-ALT-DESC;FMTTYPE=text/html:Celebrate Earth Day and express your creative self by upcycling a tin can into a Succulent Can Creation!<br />\n<br />\nAges 10 - 18 can stop by the library the week of April 21 -26 (or until supplies last) to decorate a tin and then plant a succulent to take home.<br />\n<br />\nThis drop-in craft is sponsored by the Michigan Arts and Culture Council.&nbsp\;
LOCATION:
UID:e.1709.42787
SEQUENCE:3
DTSTAMP:20260421T120056Z
URL:https://www.rivercountrychamber.com/events/details/succulent-can-creations-ages-10-18-42787
END:VEVENT

END:VCALENDAR
