BEGIN:VCALENDAR
VERSION:2.0
PRODID:-//ChamberMaster//Event Calendar 2.0//EN
METHOD:PUBLISH
X-PUBLISHED-TTL:P3D
REFRESH-INTERVAL:P3D
CALSCALE:GREGORIAN
BEGIN:VEVENT
DTSTART;VALUE=DATE:20130621
DTEND;VALUE=DATE:20130623
TRANSP:TRANSPARENT
X-MICROSOFT-CDO-ALLDAYEVENT:TRUE
SUMMARY:Summer Solstice Celebration
DESCRIPTION:Celebrate the beginning of summer at Jimmy's Roadhouse Friday and Saturday with upscale summertime Dinner Features.  Then on Saturday night watch and dance to live classic rock bands perform on a 9x16 foot digital screen with digital sound. These are recorded live performance of groups like AC/DC\, Eagles\, Led Zepplin ect.
X-ALT-DESC;FMTTYPE=text/html:<p>\n	<strong><span style="font-size:14px\;"><em><span style="font-family: 'comic sans ms'\;">Celebrate the beginning of summer at Jimmy&#39\;s Roadhouse Friday and Saturday with upscale summertime Dinner Features. &nbsp\;Then on Saturday night watch and dance to live classic rock bands perform on a 9x16 foot digital screen with digital sound. These are recorded live performance of groups like AC/DC\, Eagles\, Led Zepplin ect.</span></em></span></strong></p>\n
LOCATION:Jimmy\;s Roadhouse 8574 Mason Dr.\, Newaygo\, MI 49337
UID:e.1709.260
SEQUENCE:3
DTSTAMP:20260421T031542Z
URL:https://www.rivercountrychamber.com/events/details/summer-solstice-celebration-06-21-2013-260
END:VEVENT

END:VCALENDAR
