BEGIN:VCALENDAR
VERSION:2.0
PRODID:-//ChamberMaster//Event Calendar 2.0//EN
METHOD:PUBLISH
X-PUBLISHED-TTL:P3D
REFRESH-INTERVAL:P3D
CALSCALE:GREGORIAN
BEGIN:VEVENT
DTSTART:20131116T020000Z
DTEND:20131116T120000Z
X-MICROSOFT-CDO-ALLDAYEVENT:FALSE
SUMMARY:Tent City Challenge Lock-In
DESCRIPTION:The purpose of this FREE annual event is to educate 7th thru 12th grade students about homelessness and share experiences about homelessness within our community. The event will again this year\, be an overnight\, ?lock-in!?
X-ALT-DESC;FMTTYPE=text/html:The purpose of this FREE annual event is to educate 7th thru 12th grade students about homelessness and share experiences about homelessness within our community. The event will again this year\, be an overnight\, ?lock-in!? 
LOCATION:TrueNorth\, 6308 S. Warner Ave. Fremont MI 49412
UID:e.1709.433
SEQUENCE:3
DTSTAMP:20260420T221522Z
URL:https://www.rivercountrychamber.com/events/details/tent-city-challenge-lock-in-11-15-2013-433
END:VEVENT

END:VCALENDAR
