BEGIN:VCALENDAR
VERSION:2.0
PRODID:-//ChamberMaster//Event Calendar 2.0//EN
METHOD:PUBLISH
X-PUBLISHED-TTL:P3D
REFRESH-INTERVAL:P3D
CALSCALE:GREGORIAN
BEGIN:VEVENT
DTSTART;VALUE=DATE:20200806
DTEND;VALUE=DATE:20200808
TRANSP:TRANSPARENT
X-MICROSOFT-CDO-ALLDAYEVENT:TRUE
SUMMARY:The Global Leadership Summit
DESCRIPTION:Hosted at Resonate Church and streamed live from Willow Creek in Chicago.\n\n \nThe Global Leadership Summit is your opportunity to access a wealth of leadership insight from a world-class faculty ready to equip and inspire you no matter where you have influence.\n\nWhen you grow in your leadership and use your influence for good\, you can strengthen your relationships\, maximize the impact of your church\, business or organization\, or even ignite transformation in your community!
X-ALT-DESC;FMTTYPE=text/html:Hosted at Resonate Church and streamed live from Willow Creek in Chicago.<br />\n&nbsp\;\n<p>The Global Leadership Summit is your opportunity to access a wealth of leadership insight from a world-class faculty ready to equip and inspire you&mdash\;<em>no matter where you have influence.</em></p>\n\n<p>When you grow in your leadership and use your influence for good\, you can strengthen your relationships\, maximize the impact of your church\, business or organization\, or even ignite transformation in your community!</p>\n
LOCATION:Resonate Church 302 E 68th St\, Newaygo\, MI 49337
UID:e.1709.37398
SEQUENCE:3
DTSTAMP:20260420T102336Z
URL:https://www.rivercountrychamber.com/events/details/the-global-leadership-summit-37398
END:VEVENT

END:VCALENDAR
