BEGIN:VCALENDAR
VERSION:2.0
PRODID:-//ChamberMaster//Event Calendar 2.0//EN
METHOD:PUBLISH
X-PUBLISHED-TTL:P3D
REFRESH-INTERVAL:P3D
CALSCALE:GREGORIAN
BEGIN:VEVENT
DTSTART:20131128T200000Z
DTEND:20131128T223000Z
X-MICROSOFT-CDO-ALLDAYEVENT:FALSE
SUMMARY:The Great Supper Thanksgiving Dinner and Service
DESCRIPTION:Come and join us for Christian music\, games\, message\, and a free dinner. Free parking in Newaygo County Government Office's parking lot.  Luke 14:23 ...Go out into the highways and hedges\, and compel them to come in\, that my house may be filled.
X-ALT-DESC;FMTTYPE=text/html:Come and join us for Christian music\, games\, message\, and a free dinner. Free parking in Newaygo County Government Office&#39\;s parking lot.&nbsp\; Luke 14:23 ...Go out into the highways and hedges\, and compel them to come in\, that my house may be filled.&nbsp\; 
LOCATION:Granny's Kitchen\, 1103 Wilcox Avenue.
UID:e.1709.470
SEQUENCE:3
DTSTAMP:20260420T210248Z
URL:https://www.rivercountrychamber.com/events/details/the-great-supper-thanksgiving-dinner-and-service-11-28-2013-470
END:VEVENT

END:VCALENDAR
