BEGIN:VCALENDAR
VERSION:2.0
PRODID:-//ChamberMaster//Event Calendar 2.0//EN
METHOD:PUBLISH
X-PUBLISHED-TTL:P3D
REFRESH-INTERVAL:P3D
CALSCALE:GREGORIAN
BEGIN:VEVENT
DTSTART:20130829T130000Z
DTEND:20130829T150000Z
X-MICROSOFT-CDO-ALLDAYEVENT:FALSE
SUMMARY:The Stream Seminar: Online Surveys
DESCRIPTION:Presented by Timothy Haines Join us to learn... *Understanding the power of online surveys *Using surveys to better understand what your customers want and need  *Best practices for conducting a successful online survey *A complete guide to SurveyMonkey.com
X-ALT-DESC;FMTTYPE=text/html:Presented by Timothy Haines Join us to learn... *Understanding the power of online surveys *Using surveys to better understand what your customers want and need&nbsp\; *Best practices for conducting a successful online survey *A complete guide to SurveyMonkey.com 
LOCATION:The Stream 1 State Road Newaygo\, MI 49337
UID:e.1709.274
SEQUENCE:3
DTSTAMP:20260421T005353Z
URL:https://www.rivercountrychamber.com/events/details/the-stream-seminar-online-surveys-08-29-2013-274
END:VEVENT

END:VCALENDAR
