BEGIN:VCALENDAR
VERSION:2.0
PRODID:-//ChamberMaster//Event Calendar 2.0//EN
METHOD:PUBLISH
X-PUBLISHED-TTL:P3D
REFRESH-INTERVAL:P3D
CALSCALE:GREGORIAN
BEGIN:VEVENT
DTSTART:20211205T160000Z
DTEND:20211205T200000Z
X-MICROSOFT-CDO-ALLDAYEVENT:FALSE
SUMMARY:Third Coast Ornament Event
DESCRIPTION:Third Coast is back\, leading another custom ornament event! Come and make your very own ornament to hang on your tree or give as a gift this holiday. This event will be hosted in our spacious loft\, with refreshments provided. The cost is $10-20\, varying on your ornament of choice. Email info@katieandcompanystudio.com to sign up!
X-ALT-DESC;FMTTYPE=text/html:Third Coast is back\, leading another custom ornament event! Come and make your very own ornament to hang on your tree or give as a gift this holiday. This event will be hosted in our spacious loft\, with refreshments provided. The cost is $10-20\, varying on your ornament of choice. Email info@katieandcompanystudio.com to sign up!
LOCATION:Katie & Company
UID:e.1709.38602
SEQUENCE:3
DTSTAMP:20260424T125659Z
URL:https://www.rivercountrychamber.com/events/details/third-coast-ornament-event-38602
END:VEVENT

END:VCALENDAR
