BEGIN:VCALENDAR
VERSION:2.0
PRODID:-//ChamberMaster//Event Calendar 2.0//EN
METHOD:PUBLISH
X-PUBLISHED-TTL:P3D
REFRESH-INTERVAL:P3D
CALSCALE:GREGORIAN
BEGIN:VEVENT
DTSTART:20210619T150000Z
DTEND:20210619T200000Z
X-MICROSOFT-CDO-ALLDAYEVENT:FALSE
SUMMARY:Tiger Spirit Fest
DESCRIPTION:Open to the public! Free Admission! Games\, activities and prizes! Rockin' Dogs Food Truck Craft Show Car Show Raffles Cake Walk 2021 Cheer Registration for those interested! Hosted by Grant Rocket Cheer\, Inc
X-ALT-DESC;FMTTYPE=text/html:Open to the public! Free Admission! Games\, activities and prizes! Rockin&#39\; Dogs Food Truck Craft Show Car Show Raffles Cake Walk 2021 Cheer Registration for those interested! Hosted by Grant Rocket Cheer\, Inc
LOCATION:Bailey Christian Church 17635 Pearl Ave Bailey\, MI 49303
UID:e.1709.37775
SEQUENCE:3
DTSTAMP:20260424T000627Z
URL:https://www.rivercountrychamber.com/events/details/tiger-spirit-fest-37775
END:VEVENT

END:VCALENDAR
