BEGIN:VCALENDAR
VERSION:2.0
PRODID:-//ChamberMaster//Event Calendar 2.0//EN
METHOD:PUBLISH
X-PUBLISHED-TTL:P3D
REFRESH-INTERVAL:P3D
CALSCALE:GREGORIAN
BEGIN:VEVENT
DTSTART:20140628T223000Z
DTEND:20140629T013000Z
X-MICROSOFT-CDO-ALLDAYEVENT:FALSE
SUMMARY:Traveling Across America: Dinners on the Ridge at Camp Newaygo
DESCRIPTION:Gourmet dinners return to Camp Newaygo's Ridge Patio with a new twist on a summer favorite!  Enjoy a three-course meal while at the same time helping an outstanding community partner reach their goal.  This month our community partner is the Newaygo County Career Tech Center Culinary Arts program\, with musical guests The River Valley Ramblers.  Seating begins at 6:30pm with dinner served at 7:00pm.  Our partner will provide the staff\, and when reserving you have the choice of adding a $5 donation to your reservation for their support.  Now an even better reason to enjoy a night out with friends\, fun and music!  Attendance by advanced registration only.  Please advise of dietary restrictions upon reservation.  Call us at (231) 652-1184 today!
X-ALT-DESC;FMTTYPE=text/html:Gourmet dinners return to Camp Newaygo&#39\;s Ridge Patio with a new twist on a summer favorite! &nbsp\;Enjoy a three-course meal while at the same time helping an outstanding community partner reach their goal. &nbsp\;This month our community partner is the Newaygo County Career Tech Center Culinary Arts program\, with musical guests The River Valley Ramblers. &nbsp\;Seating begins at 6:30pm with dinner served at 7:00pm. &nbsp\;Our partner will provide the staff\, and when reserving you have the choice of adding a $5 donation to your reservation for their support. &nbsp\;Now an even better reason to enjoy a night out with friends\, fun and music! &nbsp\;Attendance by advanced registration only. &nbsp\;Please advise of dietary restrictions upon reservation. &nbsp\;Call us at (231) 652-1184 today!
LOCATION:Camp Newaygo\, 5333 Centerline Rd. Newaygo\, MI 49337
UID:e.1709.904
SEQUENCE:3
DTSTAMP:20260420T114956Z
URL:https://www.rivercountrychamber.com/events/details/traveling-across-america-dinners-on-the-ridge-at-camp-newaygo-06-28-2014-904
END:VEVENT

END:VCALENDAR
