BEGIN:VCALENDAR
VERSION:2.0
PRODID:-//ChamberMaster//Event Calendar 2.0//EN
METHOD:PUBLISH
X-PUBLISHED-TTL:P3D
REFRESH-INTERVAL:P3D
CALSCALE:GREGORIAN
BEGIN:VEVENT
DTSTART:20220325T210000Z
DTEND:20220326T000000Z
X-MICROSOFT-CDO-ALLDAYEVENT:FALSE
SUMMARY:Tuna Casserole Dinner
DESCRIPTION:Enjoy a Tuna Casserole Dinner at the Legion made by the Sons of American Legionnaires. Dinner will be served with at Super Salad Bar\, Homemade Yeast Rolls and Dessert for $10.
X-ALT-DESC;FMTTYPE=text/html:<span style="color:rgb(5\, 5\, 5)\; font-family:segoe ui historic\,segoe ui\,helvetica\,arial\,sans-serif\; font-size:15px">Enjoy a Tuna Casserole Dinner at the Legion made by the Sons of American Legionnaires. Dinner will be served with at Super Salad Bar\, Homemade Yeast Rolls and Dessert for $10.</span>
LOCATION:6812 S Croton Hardy Dr Newaygo\, MI 49337
UID:e.1709.38830
SEQUENCE:3
DTSTAMP:20260424T090949Z
URL:https://www.rivercountrychamber.com/events/details/tuna-casserole-dinner-38830
END:VEVENT

END:VCALENDAR
