BEGIN:VCALENDAR
VERSION:2.0
PRODID:-//ChamberMaster//Event Calendar 2.0//EN
METHOD:PUBLISH
X-PUBLISHED-TTL:P3D
REFRESH-INTERVAL:P3D
CALSCALE:GREGORIAN
BEGIN:VEVENT
DTSTART:20220317T193000Z
DTEND:20220317T210000Z
X-MICROSOFT-CDO-ALLDAYEVENT:FALSE
SUMMARY:Tween Teen Leprechaun Gold Scavenger Hunt
DESCRIPTION:Hey Tweens / Teens!\n\n \n\nThere is leprechaun gold stashed at the Newaygo Library and we need teens and tweens to help find the gold!\n\n\n\nWe will meet in the Library Conference Room to start the search for clues telling of the gold's whereabouts.\n\n\n\nSPACE IS LIMITED!\n\n\n\nAges: 10 - 18!\n\n\n\nREGISTRATION REQUIRED!\n\n\n\nRSVP here:  SCAVENGER HUNT or call the Library at 231-652-6723
X-ALT-DESC;FMTTYPE=text/html:<div><strong>Hey Tweens / Teens!</strong><br />\n&nbsp\;</div>\n\n<div><span style="color:rgb(60\, 64\, 67)\; font-family:roboto\,arial\,sans-serif\; font-size:14px">There is leprechaun gold stashed at the Newaygo Library and we need teens and tweens to help find the gold!</span><br />\n<br />\n<span style="color:rgb(60\, 64\, 67)\; font-family:roboto\,arial\,sans-serif\; font-size:14px">We will meet in the Library Conference Room to start the search for clues telling of the gold&#39\;s whereabouts.</span><br />\n<br />\n<strong>SPACE IS LIMITED!</strong><br />\n<br />\n<strong>Ages: 10 - 18!</strong><br />\n<br />\n<strong>REGISTRATION REQUIRED!</strong><br />\n<br />\n<strong>RSVP here:&nbsp\;&nbsp\;<a href="https://tinyurl.com/nadl-teen-scavenger">SCAVENGER HUNT</a> or call the Library at 231-652-6723</strong></div>\n
LOCATION:
UID:e.1709.38817
SEQUENCE:3
DTSTAMP:20260424T092818Z
URL:https://www.rivercountrychamber.com/events/details/tween-teen-leprechaun-gold-scavenger-hunt-38817
END:VEVENT

END:VCALENDAR
