BEGIN:VCALENDAR
VERSION:2.0
PRODID:-//ChamberMaster//Event Calendar 2.0//EN
METHOD:PUBLISH
X-PUBLISHED-TTL:P3D
REFRESH-INTERVAL:P3D
CALSCALE:GREGORIAN
BEGIN:VEVENT
DTSTART:20220303T153000Z
DTEND:20220303T153000Z
X-MICROSOFT-CDO-ALLDAYEVENT:FALSE
SUMMARY:Under The Sea Pop-Up Museum
DESCRIPTION:Come visit our pop-up museum where there will be interactive exhibits related to the ocean and our waterways!\n\n\n\nHow big is a blue whale's heart? What kinds of fish can you find in Lake Michigan? What creatures lurk in the deep?\n\nFind out these answers and more when you visit.\n\nCall the library for specific dates and times that are available for a 45 minute walk through of our museum.\n\n231-689-6631\n\n231-689-6631
X-ALT-DESC;FMTTYPE=text/html:<span style="background-color:rgb(255\, 255\, 255)\; color:rgb(5\, 5\, 5)\; font-family:segoe ui historic\,segoe ui\,helvetica\,arial\,sans-serif\; font-size:15px">Come visit our pop-up museum where there will be interactive exhibits related to the ocean and our waterways!</span><br />\n<br />\n<span style="background-color:rgb(255\, 255\, 255)\; color:rgb(5\, 5\, 5)\; font-family:segoe ui historic\,segoe ui\,helvetica\,arial\,sans-serif\; font-size:15px">How big is a blue whale&rsquo\;s heart? What kinds of fish can you find in Lake Michigan? What creatures lurk in the deep?</span><br />\n<span style="background-color:rgb(255\, 255\, 255)\; color:rgb(5\, 5\, 5)\; font-family:segoe ui historic\,segoe ui\,helvetica\,arial\,sans-serif\; font-size:15px">Find out these answers and more when you visit.</span><br />\n<span style="background-color:rgb(255\, 255\, 255)\; color:rgb(5\, 5\, 5)\; font-family:segoe ui historic\,segoe ui\,helvetica\,arial\,sans-serif\; font-size:15px">Call the library for specific dates and times that are available for a 45 minute walk through of our museum.<br />\n231-689-6631</span><br />\n<span style="background-color:rgb(255\, 255\, 255)\; color:rgb(5\, 5\, 5)\; font-family:segoe ui historic\,segoe ui\,helvetica\,arial\,sans-serif\; font-size:15px">231-689-6631</span>
LOCATION:White Cloud Community Library 1038 E Wilcox Ave. White Cloud\, MI. 49349
UID:e.1709.38751
SEQUENCE:3
DTSTAMP:20260424T091235Z
URL:https://www.rivercountrychamber.com/events/details/under-the-sea-pop-up-museum-03-03-2022-38751
END:VEVENT

END:VCALENDAR
