BEGIN:VCALENDAR
VERSION:2.0
PRODID:-//ChamberMaster//Event Calendar 2.0//EN
METHOD:PUBLISH
X-PUBLISHED-TTL:P3D
REFRESH-INTERVAL:P3D
CALSCALE:GREGORIAN
BEGIN:VEVENT
DTSTART;VALUE=DATE:20130806
DTEND;VALUE=DATE:20130812
TRANSP:TRANSPARENT
X-MICROSOFT-CDO-ALLDAYEVENT:TRUE
SUMMARY:USCA National Canoe & Kayak Championships
DESCRIPTION:The United States Canoe Association holds its major\, six-day national canoe & kayak championship week every year. This year the Nationals return to Newaygo and are hosted by the Newaygo Nationals Association in conjunction with major sponsors ChoiceOne and Spectrum Health. From Sprints on Croton Pond to the Marathon races on the Muskegon River\, these elite paddlers from around the world join our Community August 6-11 this summer!
X-ALT-DESC;FMTTYPE=text/html:The United States Canoe Association holds its major\, six-day national canoe &amp\; kayak championship week every year. This year the Nationals return to Newaygo and are hosted by the Newaygo Nationals Association in conjunction with major sponsors ChoiceOne and Spectrum Health. From Sprints on Croton Pond to the Marathon races on the Muskegon River\, these elite paddlers from around the world join our Community August 6-11 this summer!
LOCATION:Croton Pond (DuChemin Park) and Muskegon River (Henning Park)
UID:e.1709.262
SEQUENCE:3
DTSTAMP:20260421T020930Z
URL:https://www.rivercountrychamber.com/events/details/usca-national-canoe-kayak-championships-08-06-2013-262
END:VEVENT

END:VCALENDAR
