BEGIN:VCALENDAR
VERSION:2.0
PRODID:-//ChamberMaster//Event Calendar 2.0//EN
METHOD:PUBLISH
X-PUBLISHED-TTL:P3D
REFRESH-INTERVAL:P3D
CALSCALE:GREGORIAN
BEGIN:VEVENT
DTSTART:20131103T200000Z
DTEND:20131103T220000Z
X-MICROSOFT-CDO-ALLDAYEVENT:FALSE
SUMMARY:Vavoom\, Vivaldi & Wagner
DESCRIPTION:Birthday Concert Series ? ?Vavoom\, Verdi and Wagner.? Everyone is invited to enjoy outstanding performances of a variety of local musicians. Light refreshments will be served\, and a there will be a silent auction as well.
X-ALT-DESC;FMTTYPE=text/html:Birthday Concert Series ? ?Vavoom\, Verdi and Wagner.? Everyone is invited to enjoy outstanding performances of a variety of local musicians. Light refreshments will be served\, and a there will be a silent auction as well. 
LOCATION:TrueNorth\, 6308 S. Warner Ave. Fremont MI 49412
UID:e.1709.442
SEQUENCE:3
DTSTAMP:20260420T205627Z
URL:https://www.rivercountrychamber.com/events/details/vavoom-vivaldi-wagner-11-03-2013-442
END:VEVENT

END:VCALENDAR
