BEGIN:VCALENDAR
VERSION:2.0
PRODID:-//ChamberMaster//Event Calendar 2.0//EN
METHOD:PUBLISH
X-PUBLISHED-TTL:P3D
REFRESH-INTERVAL:P3D
CALSCALE:GREGORIAN
BEGIN:VEVENT
DTSTART;VALUE=DATE:20140425
DTEND;VALUE=DATE:20140426
TRANSP:TRANSPARENT
X-MICROSOFT-CDO-ALLDAYEVENT:TRUE
SUMMARY:Vera's House Fish Fry
DESCRIPTION:Fr. Thomas Memorial Fish Fry with lots of other goodies to fill you up & you can have either fried or baked fish.  All the proceeds go to support Vera's House which is a health & wellness center right here in Newaygo sponsered by St. Mark's Episcopal Church.    Plus there will be a silent auction & a fishing pole raffle.
X-ALT-DESC;FMTTYPE=text/html:Fr. Thomas Memorial Fish Fry with lots of other goodies to fill you up &amp\; you can have either fried or baked fish. &nbsp\;All the proceeds go to support Vera&#39\;s House which is a health &amp\; wellness center right here in Newaygo sponsered by St. Mark&#39\;s Episcopal Church. &nbsp\; &nbsp\;Plus there will be a silent auction &amp\; a fishing pole raffle.
LOCATION:St. Bart's Catholic Church on Barton St. in Newaygo
UID:e.1709.880
SEQUENCE:3
DTSTAMP:20260420T153853Z
URL:https://www.rivercountrychamber.com/events/details/vera-s-house-fish-fry-04-25-2014-880
END:VEVENT

END:VCALENDAR
