BEGIN:VCALENDAR
VERSION:2.0
PRODID:-//ChamberMaster//Event Calendar 2.0//EN
METHOD:PUBLISH
X-PUBLISHED-TTL:P3D
REFRESH-INTERVAL:P3D
CALSCALE:GREGORIAN
BEGIN:VEVENT
DTSTART:20231028T120000Z
DTEND:20231028T163000Z
X-MICROSOFT-CDO-ALLDAYEVENT:FALSE
SUMMARY:Versiti Blood Drive
DESCRIPTION:In conjunction with our October 4th Saturday Pancake Breakfast Newayo UMC will be hosting a Versiti blood drive.\n\n\n\nVersiti (formerly Michigan Blood) provides all blood products to Gerber Hospital\, to all the hospitals in Kent County\, and much of West MI.  There is an urgent need for more blood donors.  Please pay it forward and make your appointment today.  \n\n\n\nTo make your appointment to donate\, please click the link below:    \n\nhttps://donate.michigan.versiti.org/donor/schedules/drive_schedule/153640
X-ALT-DESC;FMTTYPE=text/html:In conjunction with our October 4th Saturday Pancake Breakfast Newayo UMC will be hosting a Versiti blood drive.<br />\n<br />\nVersiti (formerly Michigan Blood) provides all blood products to Gerber Hospital\, to all the hospitals in Kent County\, and much of West MI.&nbsp\; There is an urgent need for more blood donors.&nbsp\; Please pay it forward and make your appointment today.&nbsp\;&nbsp\;<br />\n<br />\n<a href="https://donate.michigan.versiti.org/donor/schedules/drive_schedule/153640" id="drive_schedule_link" style="box-sizing: border-box\; margin: 0px\; padding: 0px\; border: 0px\; outline: 0px\; font-size: 14px\; vertical-align: baseline\; background: rgb(255\, 255\, 255)\; color: rgb(201\, 31\, 64)\; text-decoration-line: none\; font-family: &quot\;Open Sans&quot\;\, sans-serif\; overflow-wrap: break-word\;" target="_blank"><span style="color:#000000">To make your appointment to donate\, please click the link below:&nbsp\;&nbsp\;</span>&nbsp\;&nbsp\;<br />\nhttps://donate.michigan.versiti.org/donor/schedules/drive_schedule/153640</a>
LOCATION:Newaygo United Methodist Church 101 State Road Newaygo\, MI 49337
UID:e.1709.41143
SEQUENCE:3
DTSTAMP:20260424T110459Z
URL:https://www.rivercountrychamber.com/events/details/versiti-blood-drive-41143
END:VEVENT

END:VCALENDAR
