BEGIN:VCALENDAR
VERSION:2.0
PRODID:-//ChamberMaster//Event Calendar 2.0//EN
METHOD:PUBLISH
X-PUBLISHED-TTL:P3D
REFRESH-INTERVAL:P3D
CALSCALE:GREGORIAN
BEGIN:VEVENT
DTSTART:20211207T213000Z
DTEND:20211207T233000Z
X-MICROSOFT-CDO-ALLDAYEVENT:FALSE
SUMMARY:Veterans Chili Dinner and We Honor Veterans Pinning Ceremony
DESCRIPTION:All veterans and their families are invited to the 7th Annual Veteran Chili Dinner and We Honor Veterans Pinning Ceremony.\n\nPlease join us for fellowship\, music\, story sharing\, and a variety of homemade chili and desserts.\n\nCo-hosted by Harbor Hospice\, Clock Funeral Home\, and Muskegon County Department of Veterans Affairs.\n\nRSVP encouraged by calling 231.722.3721
X-ALT-DESC;FMTTYPE=text/html:<p>All veterans and their families are invited to the 7<sup>th</sup>&nbsp\;Annual Veteran Chili Dinner and We Honor Veterans Pinning Ceremony.</p>\n\n<p>Please join us for fellowship\, music\, story sharing\, and a variety of homemade chili and desserts.</p>\n\n<p>Co-hosted by Harbor Hospice\, Clock Funeral Home\, and Muskegon County Department of Veterans Affairs.</p>\n\n<p>RSVP encouraged by calling 231.722.3721</p>\n
LOCATION:Clock Funeral Home 1469 Peck Street Muskegon\, MI 49441
UID:e.1709.38579
SEQUENCE:3
DTSTAMP:20260420T080227Z
URL:https://www.rivercountrychamber.com/events/details/veterans-chili-dinner-and-we-honor-veterans-pinning-ceremony-38579
END:VEVENT

END:VCALENDAR
