BEGIN:VCALENDAR
VERSION:2.0
PRODID:-//ChamberMaster//Event Calendar 2.0//EN
METHOD:PUBLISH
X-PUBLISHED-TTL:P3D
REFRESH-INTERVAL:P3D
CALSCALE:GREGORIAN
BEGIN:VEVENT
DTSTART:20130725T130000Z
DTEND:20130725T150000Z
X-MICROSOFT-CDO-ALLDAYEVENT:FALSE
SUMMARY:Website Tear-down Seminar
DESCRIPTION:"Website Tear-down" Get personal/practical advice about   your website or social media accounts Presented by:  Paul Kortman  \n\n\n\nIncreasing traffic to your business... ?SEO ?Paid Ads ?Social content    Converting viewers to buyers... ?Conversion Optimization ?E-commerce tool choice ?Appropriate Calls to Action
X-ALT-DESC;FMTTYPE=text/html:&quot\;Website Tear-down&quot\; Get personal/practical advice about&nbsp\; &nbsp\;your website or social media accounts Presented by: &nbsp\;Paul Kortman &nbsp\;<br />\n<br />\nIncreasing traffic to your business... ?SEO ?Paid Ads ?Social content&nbsp\; &nbsp\; Converting viewers to buyers... ?Conversion Optimization ?E-commerce tool choice ?Appropriate Calls to Action 
LOCATION:The Stream 1 State Rd Newaygo\, MI 49455
UID:e.1709.264
SEQUENCE:3
DTSTAMP:20260421T020445Z
URL:https://www.rivercountrychamber.com/events/details/website-tear-down-seminar-07-25-2013-264
END:VEVENT

END:VCALENDAR
