BEGIN:VCALENDAR
VERSION:2.0
PRODID:-//ChamberMaster//Event Calendar 2.0//EN
METHOD:PUBLISH
X-PUBLISHED-TTL:P3D
REFRESH-INTERVAL:P3D
CALSCALE:GREGORIAN
BEGIN:VEVENT
DTSTART:20130920T230000Z
DTEND:20130927T000000Z
X-MICROSOFT-CDO-ALLDAYEVENT:FALSE
SUMMARY:West Michigan Varsity - TV Game of the Night - Reed City @ Newaygo
DESCRIPTION:Regional TV Coverage by MI TV & Sports of the West Michigan Varsity Football Game of the Night between Reed City and Newaygo. Airing on Comcast Cable #397 Wed. 9/25 -8pm and Charter Cable #16 - Thurs. 9/26 - 8pm. Be sure to watch with your family!
X-ALT-DESC;FMTTYPE=text/html:Regional TV Coverage by MI TV &amp\; Sports of the West Michigan Varsity Football Game of the Night between Reed City and Newaygo. Airing on Comcast Cable #397 Wed. 9/25 -8pm and Charter Cable #16 - Thurs. 9/26 - 8pm. Be sure to watch with your family!
LOCATION:Newaygo High School
UID:e.1709.426
SEQUENCE:3
DTSTAMP:20260420T233902Z
URL:https://www.rivercountrychamber.com/events/details/west-michigan-varsity-tv-game-of-the-night-reed-city-newaygo-09-20-2013-426
END:VEVENT

END:VCALENDAR
