BEGIN:VCALENDAR
VERSION:2.0
PRODID:-//ChamberMaster//Event Calendar 2.0//EN
METHOD:PUBLISH
X-PUBLISHED-TTL:P3D
REFRESH-INTERVAL:P3D
CALSCALE:GREGORIAN
BEGIN:VEVENT
DTSTART:20140208T180000Z
DTEND:20140208T210000Z
X-MICROSOFT-CDO-ALLDAYEVENT:FALSE
SUMMARY:WinterFest Sledding Party part of the Dam Good WinterFest Celebration
DESCRIPTION:The River Country Chamber of Commerce of Newaygo County is happy to announce the return of SLEDDING PARTY!!!   The former White Cloud Chamber of Commerce's annual Winter Carnival is now a part of the Dam Good WinterFest activities.\n\n\n\nThis family friendly event will be held at the Newaygo County Sports Park on M37 between Newaygo & White Cloud.  Plenty of activities on hand for the kids so bring your friends and family and enjoy the day outdoors. \n\n\n\nThere will be Soup\, hot dogs\, pie\, hot chocolate and coffee available for purchase\; funds raised will go to the benefit of the White Cloud High School Band\n\n\n\n*if you are interested in donating\; entering the soup & pie contest or have questions on volunteer opportunities please contact Phyliss Green at 231-689-6826 or email the River Country Chamber of Commerce at info@RiverCountryChamber.com
X-ALT-DESC;FMTTYPE=text/html:<br />\nThe River Country Chamber of Commerce of Newaygo County is happy to announce the return of SLEDDING PARTY!!! &nbsp\; The former White Cloud Chamber of Commerce&#39\;s annual Winter Carnival is now a part of the Dam Good WinterFest&nbsp\;activities.<br />\n<br />\nThis family friendly event will be held at the Newaygo County Sports Park on M37&nbsp\;between Newaygo &amp\; White Cloud. &nbsp\;Plenty of activities on hand for the kids so bring your friends and family and enjoy the day outdoors.&nbsp\;<br />\n<br />\nThere will be Soup\, hot dogs\, pie\, hot chocolate and coffee available for purchase\; funds raised will go to the benefit of the White Cloud High School Band<br />\n<br />\n<em><strong>*if you are interested in donating\; entering the soup &amp\; pie contest or have questions on volunteer opportunities please contact Phyliss Green at 231-689-6826 or email the River Country Chamber of Commerce at info@RiverCountryChamber.com</strong></em><br />\n<br />\n<br />\n<br />\n<br />\n
LOCATION:Newaygo County Sports Park M-37 between Newaygo & White Cloud
UID:e.1709.571
SEQUENCE:3
DTSTAMP:20260420T165555Z
URL:https://www.rivercountrychamber.com/events/details/winterfest-sledding-party-part-of-the-dam-good-winterfest-celebration-02-08-2014-571
END:VEVENT

END:VCALENDAR
