BEGIN:VCALENDAR
VERSION:2.0
PRODID:-//ChamberMaster//Event Calendar 2.0//EN
METHOD:PUBLISH
X-PUBLISHED-TTL:P3D
REFRESH-INTERVAL:P3D
CALSCALE:GREGORIAN
BEGIN:VEVENT
DTSTART:20211112T230000Z
DTEND:20211113T010000Z
X-MICROSOFT-CDO-ALLDAYEVENT:FALSE
SUMMARY:Wood Burned Ornament Workshop
DESCRIPTION:Join us at Katie & Company on November\, 12th at 6:00 PM to learn the basics of wood burning and create your very own holiday ornament!\n\nThe class is for beginners\, no experience necessary!\n\nRefreshments will be provided.\n\nWe expect this class to last about 2 hours.\n\nSpace is very limited so message us soon!\n\ninfo@katieandcompanystudio.com\n\nThe cost is $45
X-ALT-DESC;FMTTYPE=text/html:<span style="color:rgb(5\, 5\, 5)\; font-family:segoe ui historic\,segoe ui\,helvetica\,arial\,sans-serif\; font-size:15px">Join us at Katie &amp\; Company on November\, 12th at 6:00 PM to learn the basics of wood burning and create your very own holiday ornament!</span><br />\n<span style="color:rgb(5\, 5\, 5)\; font-family:segoe ui historic\,segoe ui\,helvetica\,arial\,sans-serif\; font-size:15px">The class is for beginners\, no experience necessary!</span><br />\n<span style="color:rgb(5\, 5\, 5)\; font-family:segoe ui historic\,segoe ui\,helvetica\,arial\,sans-serif\; font-size:15px">Refreshments will be provided.</span><br />\n<span style="color:rgb(5\, 5\, 5)\; font-family:segoe ui historic\,segoe ui\,helvetica\,arial\,sans-serif\; font-size:15px">We expect this class to last about 2 hours.<br />\nSpace is very limited so message us soon!</span><br />\n<span style="color:rgb(5\, 5\, 5)\; font-family:segoe ui historic\,segoe ui\,helvetica\,arial\,sans-serif\; font-size:15px">info@katieandcompanystudio.com</span><br />\n<span style="color:rgb(5\, 5\, 5)\; font-family:segoe ui historic\,segoe ui\,helvetica\,arial\,sans-serif\; font-size:15px">The cost is $45</span>
LOCATION:Katie & Company 65 State Rd. Newaygo\, Michigan 49337
UID:e.1709.38564
SEQUENCE:3
DTSTAMP:20260424T141706Z
URL:https://www.rivercountrychamber.com/events/details/wood-burned-ornament-workshop-38564
END:VEVENT

END:VCALENDAR
