BEGIN:VCALENDAR
VERSION:2.0
PRODID:-//ChamberMaster//Event Calendar 2.0//EN
METHOD:PUBLISH
X-PUBLISHED-TTL:P3D
REFRESH-INTERVAL:P3D
CALSCALE:GREGORIAN
BEGIN:VEVENT
DTSTART:20140107T160000Z
DTEND:20140318T210000Z
X-MICROSOFT-CDO-ALLDAYEVENT:FALSE
SUMMARY:Wrap Up in a Good Book
DESCRIPTION:The adult winter reading club "wrap up in a good book" starts Jan.7th. Sign up at the library. Luncheon and prizes will be given out on March 18\, 2014.
X-ALT-DESC;FMTTYPE=text/html:The adult winter reading club &quot\;wrap up in a good book&quot\; starts Jan.7th. Sign up at the library. Luncheon and prizes will be given out on March 18\, 2014.
LOCATION:Croton Township Library
UID:e.1709.559
SEQUENCE:3
DTSTAMP:20260420T154309Z
URL:https://www.rivercountrychamber.com/events/details/wrap-up-in-a-good-book-01-07-2014-559
END:VEVENT

END:VCALENDAR
